Workbook
Name AVCOMP: #REF!
Name AVGLEVY: #REF!
Name CLASSCOMPS: #REF!
Name EQUALIZATION: #REF!
Name MINVALS: 'MINERAL VALUE DETAIL'!#REF!
Name TAXCOMP: #REF!
Name WHATIF: #REF!

Sheet Albany Value
A1: ="ALBANY COUNTY "&D3 -> ALBANY COUNTY 2026
C3: 2025 | D3: 2026 | E3: 2025 | F3: =$D$3 -> 2026 | I3: =$D$3 -> 2026
C4: Productive | D4: Productive | E4: Assessed | F4: Assessed | G4: Productive Value | H4: Assessed Value | I4: Level of
A5: LINE | B5: CLASSIFICATION | C5: Value | D5: Value | E5: Value | F5: Value | G5: Change | H5: % Change | I5: Assessment
A6: A | B6: AGRICULTRAL LAND | C6: 147667113 | D6: =D25 -> 141739270 | E6: 14028409 | F6: =F25 -> 13465262 | G6: =D6-C6 -> -5927843 | H6: =IF(E6=0,"",F6/E6-1) -> -0.040143326 | I6: =IF(D6=0,"N/A",F6/D6) -> 0.095000221
A7: B | B7: REAL PROPERTY | C7: 4.6949747e+09 | D7: =D42 -> 5.4242511e+09 | E7: 446022635 | F7: =F42 -> 515304217 | G7: =D7-C7 -> 7.2927646e+08 | H7: =IF(E7=0,"",F7/E7-1) -> 0.15533199 | I7: =IF(D7=0,"N/A",F7/D7) -> 0.095000067
A8: C | B8: PERSONAL PROPERTY | C8: 1.3504365e+08 | D8: =D49 -> 1.0267303e+08 | E8: 12829153 | F8: =F49 -> 9753943 | G8: =D8-C8 -> -32370621 | H8: =IF(E8=0,"",F8/E8-1) -> -0.23970483 | I8: =IF(D8=0,"N/A",F8/D8) -> 0.095000053
A9: D | B9: INDUSTRIAL PROPERTY | C9: 759543169 | D9: =D87 -> 847753690 | E9: 87347465 | F9: =F87 -> 97491683 | G9: =D9-C9 -> 88210521 | H9: =IF(E9=0,"",F9/E9-1) -> 0.11613638 | I9: =IF(D9=0,"N/A",F9/D9) -> 0.11500001
B10: STATE ASSESSED - MINERALS | C10: 23698014 | D10: ='STATE ASSESSED'!C5 -> 16502142 | E10: 23698014 | F10: =D10 -> 16502142 | G10: =D10-C10 -> -7195872 | H10: =IF(E10=0,"",F10/E10-1) -> -0.30364874 | I10: =IF(D10=0,"N/A",F10/D10) -> 1
B11: STATE ASSESSED - OTHER | C11: 737079882 | D11: ='STATE ASSESSED'!F5 -> 796225493 | E11: 84222273 | F11: ='STATE ASSESSED'!I5 -> 91066586 | G11: =D11-C11 -> 59145611 | H11: =IF(E11=0,"",F11/E11-1) -> 0.081264881 | I11: =F11/D11 -> 0.11437286 | J11: *
H12: =IF(E12=0,"",F12/E12-1)
B13: LOCALLY ASSESSED VALUATION | C13: 5.7372286e+09 | D13: =SUM(D6:D9) -> 6.5164171e+09 | E13: 560227662 | F13: =SUM(F6:F9) -> 636015105 | G13: =SUM(G6:G9) -> 7.7918852e+08 | H13: =IF(E13=0,"",F13/E13-1) -> 0.13527972
B14: STATE ASSESSED VALUATION | C14: 760777896 | D14: =SUM(D10:D11) -> 812727635 | E14: 107920287 | F14: =SUM(F10:F11) -> 107568728 | G14: =SUM(G10:G11) -> 51949739 | H14: =IF(E14=0,"",F14/E14-1) -> -0.0032575803
B15: TOTAL VALUATION | C15: 6.4980065e+09 | D15: =SUM(D13:D14) -> 7.3291447e+09 | E15: 668147949 | F15: =SUM(F13:F14) -> 743583833 | G15: =SUM(G13:G14) -> 8.3113826e+08 | H15: =IF(E15=0,"",F15/E15-1) -> 0.11290296
A18: * Telephone and cable are taxed at 9.5%. All others are taxed at 11.5%.
C19: 2025 | D19: =$D$3 -> 2026 | E19: 2025 | F19: =$D$3 -> 2026 | I19: =$D$3 -> 2026
C20: Productive | D20: Productive | E20: Assessed | F20: Assessed | G20: Productive Value | H20: Assessed Value | I20: Level of
A21: AGRICULTURAL LANDS | C21: Value | D21: Value | E21: Value | F21: Value | G21: Change | H21: % Change | I21: Assessment
A22: 110 | B22: IRRIGATED | C22: 0 | D22: 0 | E22: 0 | F22: 0 | G22: =D22-C22 -> 0 | H22: =IF(E22=0,"",F22/E22-1) | I22: =IF(D22=0,"N/A",F22/D22) -> N/A
A23: 120 | B23: DRY CROP | C23: 0 | D23: 0 | E23: 0 | F23: 0 | G23: =D23-C23 -> 0 | H23: =IF(E23=0,"",F23/E23-1) | I23: =IF(D23=0,"N/A",F23/D23) -> N/A
A24: 130 | B24: RANGE | C24: 147667113 | D24: 141739270 | E24: 14028409 | F24: 13465262 | G24: =D24-C24 -> -5927843 | H24: =IF(E24=0,"",F24/E24-1) -> -0.040143326 | I24: =IF(D24=0,"N/A",F24/D24) -> 0.095000221
A25: A | B25: TOTAL AG LANDS | C25: 147667113 | D25: =SUM(D22:D24) -> 141739270 | E25: 14028409 | F25: =SUM(F22:F24) -> 13465262 | G25: =SUM(G22:G24) -> -5927843 | H25: =IF(E25=0,"",F25/E25-1) -> -0.040143326 | I25: =IF(D25=0,"N/A",F25/D25) -> 0.095000221
C27: 2025 | D27: =$D$3 -> 2026 | E27: 2025 | F27: =$D$3 -> 2026
A28: AG ACREAGE | C28: Acres | D28: Acres | E28: Value/Acre | F28: Value/Acre | G28: Acre Change | H28: Value/Acre Change
A29: 110 | B29: IRRIGATED | C29: 0 | D29: 0 | E29: 0 | F29: =IF(D29<>0,D22/D29,0) -> 0 | G29: =D29-C29 -> 0 | H29: =F29-E29 -> 0
A30: 120 | B30: DRY CROP | C30: 0 | D30: 0 | E30: 0 | F30: =IF(D30<>0,D23/D30,0) -> 0 | G30: =D30-C30 -> 0 | H30: =F30-E30 -> 0
A31: 130 | B31: RANGE | C31: 1642230.6 | D31: 1647527.4 | E31: 89.918624 | F31: =IF(D31<>0,D24/D31,0) -> 86.031509 | G31: =D31-C31 -> 5296.848 | H31: =F31-E31 -> -3.8871148
C35: 2025 | D35: =$D$3 -> 2026 | E35: 2025 | F35: =$D$3 -> 2026 | G35: Dollar | H35: % | I35: =$D$3 -> 2026
C36: Fair Market | D36: Fair Market | E36: Assessed | F36: Assessed | G36: Market Value | H36: Assessed Value | I36: Level of
A37: REAL PROPERTY | C37: Value | D37: Value | E37: Value | F37: Value | G37: Change | H37: Change | I37: Assessment
A38: 200 | B38: RESIDENTIAL LAND | C38: 7.8006491e+08 | D38: 9.0946867e+08 | E38: 74106235 | F38: 86399727 | G38: =D38-C38 -> 1.2940376e+08 | H38: =IF(E38=0,"",F38/E38-1) -> 0.16589012 | I38: =IF(D38=0,"N/A",F38/D38) -> 0.095000224
A39: 300 | B39: RESIDENTIAL IMPROVED | C39: 2.6234335e+09 | D39: 3.2161275e+09 | E39: 249226178 | F39: 305532245 | G39: =D39-C39 -> 5.9269403e+08 | H39: =IF(E39=0,"",F39/E39-1) -> 0.22592357 | I39: =IF(D39=0,"N/A",F39/D39) -> 0.09500004
A40: 400 | B40: COMMERCIAL LAND | C40: 2.2382588e+08 | D40: 2.4069506e+08 | E40: 21263440 | F40: 22866029 | G40: =D40-C40 -> 16869180 | H40: =IF(E40=0,"",F40/E40-1) -> 0.075368285 | I40: =IF(D40=0,"N/A",F40/D40) -> 0.094999995
A41: 500 | B41: COMMERCIAL IMPROVED | C41: 1.0676504e+09 | D41: 1.0579599e+09 | E41: 101426782 | F41: 100506216 | G41: =D41-C41 -> -9690506.2 | H41: =IF(E41=0,"",F41/E41-1) -> -0.0090761629 | I41: =IF(D41=0,"N/A",F41/D41) -> 0.095000027
A42: B | B42: TOTAL REAL PROPERTY | C42: 4.6949747e+09 | D42: =SUM(D38:D41) -> 5.4242511e+09 | E42: 446022635 | F42: =SUM(F38:F41) -> 515304217 | G42: =SUM(G38:G41) -> 7.2927646e+08 | H42: =IF(E42=0,"",F42/E42-1) -> 0.15533199 | I42: =IF(D42=0,"N/A",F42/D42) -> 0.095000067
C44: 2025 | D44: =$D$3 -> 2026 | E44: 2025 | F44: =$D$3 -> 2026 | G44: Dollar | H44: % | I44: =$D$3 -> 2026
C45: Fair Market | D45: Fair Market | E45: Assessed | F45: Assessed | G45: Market Value | H45: Assessed Value | I45: Level of
A46: PERSONAL PROPERTY | C46: Value | D46: Value | E46: Value | F46: Value | G46: Change | H46: Change | I46: Assessment
A47: 610 | B47: RESIDENTIAL PERSONAL PROPERTY | C47: 21537782 | D47: 27146986 | E47: 2046089 | F47: 2578972 | G47: =D47-C47 -> 5609204 | H47: =IF(E47=0,"",F47/E47-1) -> 0.2604398 | I47: =IF(D47=0,"N/A",F47/D47) -> 0.095000305
A48: 730 | B48: COMMERCAIL PERSONAL PROPERTY | C48: 113505865 | D48: 75526040 | E48: 10783064 | F48: 7174971 | G48: =D48-C48 -> -37979825 | H48: =IF(E48=0,"",F48/E48-1) -> -0.3346074 | I48: =IF(D48=0,"N/A",F48/D48) -> 0.094999963
...

Sheet Big Horn Value
A1: ="BIG HORN COUNTY "&D3 -> BIG HORN COUNTY 2026
C3: 2025 | D3: ='Albany Value'!$D$3 -> 2026 | E3: =$C$3 -> 2025 | F3: =$D$3 -> 2026 | I3: =$D$3 -> 2026
C4: Productive | D4: Productive | E4: Assessed | F4: Assessed | G4: Productive Value | H4: Assessed Value | I4: Level of
A5: LINE | B5: CLASSIFICATION | C5: Value | D5: Value | E5: Value | F5: Value | G5: Change | H5: % Change | I5: Assessment
A6: A | B6: AGRICULTRAL LAND | C6: 2.5890608e+08 | D6: =D25 -> 1.792311e+08 | E6: 24596167 | F6: =F25 -> 17027459 | G6: =D6-C6 -> -79674982 | H6: =IF(E6=0,"",F6/E6-1) -> -0.307719 | I6: =IF(D6=0,"N/A",F6/D6) -> 0.095002816
A7: B | B7: REAL PROPERTY | C7: 8.9536499e+08 | D7: =D42 -> 1.0849614e+09 | E7: 85059860 | F7: =F42 -> 103071556 | G7: =D7-C7 -> 1.8959639e+08 | H7: =IF(E7=0,"",F7/E7-1) -> 0.21175318 | I7: =IF(D7=0,"N/A",F7/D7) -> 0.095000208
A8: C | B8: PERSONAL PROPERTY | C8: 1.059064e+08 | D8: =D49 -> 87929119 | E8: 10061127 | F8: =F49 -> 8353252 | G8: =D8-C8 -> -17977283 | H8: =IF(E8=0,"",F8/E8-1) -> -0.16974987 | I8: =IF(D8=0,"N/A",F8/D8) -> 0.094999837
A9: D | B9: INDUSTRIAL PROPERTY | C9: 149928026 | D9: =D87 -> 1.642789e+08 | E9: 17241726 | F9: =F87 -> 18892077 | G9: =D9-C9 -> 14350869 | H9: =IF(E9=0,"",F9/E9-1) -> 0.095718433 | I9: =IF(D9=0,"N/A",F9/D9) -> 0.11500002
B10: STATE ASSESSED - MINERALS | C10: 97042542 | D10: ='STATE ASSESSED'!C6 -> 82345182 | E10: 97042542 | F10: =D10 -> 82345182 | G10: =D10-C10 -> -14697360 | H10: =IF(E10=0,"",F10/E10-1) -> -0.15145275 | I10: =IF(D10=0,"N/A",F10/D10) -> 1
B11: STATE ASSESSED - OTHER | C11: 220995138 | D11: ='STATE ASSESSED'!F6 -> 221862195 | E11: 25076728 | F11: ='STATE ASSESSED'!I6 -> 25261145 | G11: =D11-C11 -> 867057 | H11: =IF(E11=0,"",F11/E11-1) -> 0.0073541094 | I11: =F11/D11 -> 0.11385962 | J11: *
H12: =IF(E12=0,"",F12/E12-1)
B13: LOCALLY ASSESSED VALUATION | C13: 1.4101055e+09 | D13: =SUM(D6:D9) -> 1.5164005e+09 | E13: 136958880 | F13: =SUM(F6:F9) -> 147344344 | G13: =SUM(G6:G9) -> 1.0629499e+08 | H13: =IF(E13=0,"",F13/E13-1) -> 0.075829066
B14: STATE ASSESSED VALUATION | C14: 318037680 | D14: =SUM(D10:D11) -> 304207377 | E14: 122119270 | F14: =SUM(F10:F11) -> 107606327 | G14: =SUM(G10:G11) -> -13830303 | H14: =IF(E14=0,"",F14/E14-1) -> -0.11884237
B15: TOTAL VALUATION | C15: 1.7281432e+09 | D15: =SUM(D13:D14) -> 1.8206079e+09 | E15: 259078150 | F15: =SUM(F13:F14) -> 254950671 | G15: =SUM(G13:G14) -> 92464690 | H15: =IF(E15=0,"",F15/E15-1) -> -0.015931405
A18: * Telephone and cable are taxed at 9.5%. All others are taxed at 11.5%.
C19: =$C$3 -> 2025 | D19: =$D$3 -> 2026 | E19: =$C$3 -> 2025 | F19: =$D$3 -> 2026 | I19: =$D$3 -> 2026
C20: Productive | D20: Productive | E20: Assessed | F20: Assessed | G20: Productive Value | H20: Assessed Value | I20: Level of
A21: AGRICULTURAL LANDS | C21: Value | D21: Value | E21: Value | F21: Value | G21: Change | H21: % Change | I21: Assessment
A22: 110 | B22: IRRIGATED | C22: 2.4390452e+08 | D22: 1.6803416e+08 | E22: 23170926 | F22: 15963382 | G22: =D22-C22 -> -75870362 | H22: =IF(E22=0,"",F22/E22-1) -> -0.31105982 | I22: =IF(D22=0,"N/A",F22/D22) -> 0.095000817
A23: 120 | B23: DRY CROP | C23: 0 | D23: 0 | E23: 0 | F23: 0 | G23: =D23-C23 -> 0 | H23: =IF(E23=0,"",F23/E23-1) | I23: =IF(D23=0,"N/A",F23/D23) -> N/A
A24: 130 | B24: RANGE | C24: 15001563 | D24: 11196943 | E24: 1425241 | F24: 1064077 | G24: =D24-C24 -> -3804619.4 | H24: =IF(E24=0,"",F24/E24-1) -> -0.25340556 | I24: =IF(D24=0,"N/A",F24/D24) -> 0.095032811
A25: A | B25: TOTAL AG LANDS | C25: 2.5890608e+08 | D25: =SUM(D22:D24) -> 1.792311e+08 | E25: 24596167 | F25: =SUM(F22:F24) -> 17027459 | G25: =SUM(G22:G24) -> -79674982 | H25: =IF(E25=0,"",F25/E25-1) -> -0.307719 | I25: =IF(D25=0,"N/A",F25/D25) -> 0.095002816
C27: =$C$3 -> 2025 | D27: =$D$3 -> 2026 | E27: =$C$3 -> 2025 | F27: =$D$3 -> 2026
A28: AG ACREAGE | C28: Acres | D28: Acres | E28: Value/Acre | F28: Value/Acre | G28: Acre Change | H28: Value/Acre Change
A29: 110 | B29: IRRIGATED | C29: 116158.85 | D29: 116255.73 | E29: 2099.7498 | F29: =IF(D29<>0,D22/D29,0) -> 1445.3839 | G29: =D29-C29 -> 96.88 | H29: =F29-E29 -> -654.36591
A30: 120 | B30: DRY CROP | C30: 0 | D30: 0 | E30: 0 | F30: =IF(D30<>0,D23/D30,0) -> 0 | G30: =D30-C30 -> 0 | H30: =F30-E30 -> 0
A31: 130 | B31: RANGE | C31: 181156.64 | D31: 183583.94 | E31: 82.809897 | F31: =IF(D31<>0,D24/D31,0) -> 60.990865 | G31: =D31-C31 -> 2427.3 | H31: =F31-E31 -> -21.819032
C35: =$C$3 -> 2025 | D35: =$D$3 -> 2026 | E35: =$C$3 -> 2025 | F35: =$D$3 -> 2026 | G35: Dollar | H35: % | I35: =$D$3 -> 2026
C36: Fair Market | D36: Fair Market | E36: Assessed | F36: Assessed | G36: Market Value | H36: Assessed Value | I36: Level of
A37: REAL PROPERTY | C37: Value | D37: Value | E37: Value | F37: Value | G37: Change | H37: Change | I37: Assessment
A38: 200 | B38: RESIDENTIAL LAND | C38: 1.9465093e+08 | D38: 2.4186039e+08 | E38: 18492033 | F38: 22976911 | G38: =D38-C38 -> 47209463 | H38: =IF(E38=0,"",F38/E38-1) -> 0.24253028 | I38: =IF(D38=0,"N/A",F38/D38) -> 0.095000719
A39: 300 | B39: RESIDENTIAL IMPROVED | C39: 5.911132e+08 | D39: 7.2742912e+08 | E39: 56155720 | F39: 69105796 | G39: =D39-C39 -> 1.3631591e+08 | H39: =IF(E39=0,"",F39/E39-1) -> 0.2306101 | I39: =IF(D39=0,"N/A",F39/D39) -> 0.095000041
A40: 400 | B40: COMMERCIAL LAND | C40: 22233360 | D40: 27028576 | E40: 2112196 | F40: 2567738 | G40: =D40-C40 -> 4795216 | H40: =IF(E40=0,"",F40/E40-1) -> 0.21567222 | I40: =IF(D40=0,"N/A",F40/D40) -> 0.095000861
A41: 500 | B41: COMMERCIAL IMPROVED | C41: 87367494 | D41: 88643291 | E41: 8299911 | F41: 8421111 | G41: =D41-C41 -> 1275796.5 | H41: =IF(E41=0,"",F41/E41-1) -> 0.014602566 | I41: =IF(D41=0,"N/A",F41/D41) -> 0.094999982
A42: B | B42: TOTAL REAL PROPERTY | C42: 8.9536499e+08 | D42: =SUM(D38:D41) -> 1.0849614e+09 | E42: 85059860 | F42: =SUM(F38:F41) -> 103071556 | G42: =SUM(G38:G41) -> 1.8959639e+08 | H42: =IF(E42=0,"",F42/E42-1) -> 0.21175318 | I42: =IF(D42=0,"N/A",F42/D42) -> 0.095000208
C44: =$C$3 -> 2025 | D44: =$D$3 -> 2026 | E44: =$C$3 -> 2025 | F44: =$D$3 -> 2026 | G44: Dollar | H44: % | I44: =$D$3 -> 2026
C45: Fair Market | D45: Fair Market | E45: Assessed | F45: Assessed | G45: Market Value | H45: Assessed Value | I45: Level of
A46: PERSONAL PROPERTY | C46: Value | D46: Value | E46: Value | F46: Value | G46: Change | H46: Change | I46: Assessment
A47: 610 | B47: RESIDENTIAL PERSONAL PROPERTY | C47: 13917779 | D47: 16622684 | E47: 1322198 | F47: 1579142 | G47: =D47-C47 -> 2704904.2 | H47: =IF(E47=0,"",F47/E47-1) -> 0.19433095 | I47: =IF(D47=0,"N/A",F47/D47) -> 0.094999221
A48: 730 | B48: COMMERCAIL PERSONAL PROPERTY | C48: 91988623 | D48: 71306436 | E48: 8738929 | F48: 6774110 | G48: =D48-C48 -> -20682187 | H48: =IF(E48=0,"",F48/E48-1) -> -0.22483522 | I48: =IF(D48=0,"N/A",F48/D48) -> 0.094999981
...

Sheet Campbell Value
A1: ="CAMPBELL COUNTY "&D3 -> CAMPBELL COUNTY 2026
C3: 2025 | D3: ='Albany Value'!D3 -> 2026 | E3: 2025 | F3: =$D$3 -> 2026 | I3: =$D$3 -> 2026
C4: Productive | D4: Productive | E4: Assessed | F4: Assessed | G4: Productive Value | H4: Assessed Value | I4: Level of
A5: LINE | B5: CLASSIFICATION | C5: Value | D5: Value | E5: Value | F5: Value | G5: Change | H5: % Change | I5: Assessment
A6: A | B6: AGRICULTRAL LAND | C6: 184013883 | D6: =D25 -> 172921136 | E6: 17481331 | F6: =F25 -> 16427530 | G6: =D6-C6 -> -11092747 | H6: =IF(E6=0,"",F6/E6-1) -> -0.060281508 | I6: =IF(D6=0,"N/A",F6/D6) -> 0.095000128
A7: B | B7: REAL PROPERTY | C7: 4.7311074e+09 | D7: =D42 -> 5.4325099e+09 | E7: 449455678 | F7: =F42 -> 516088774 | G7: =D7-C7 -> 7.014025e+08 | H7: =IF(E7=0,"",F7/E7-1) -> 0.14825287 | I7: =IF(D7=0,"N/A",F7/D7) -> 0.095000061
A8: C | B8: PERSONAL PROPERTY | C8: 2.612478e+08 | D8: =D49 -> 2.1307533e+08 | E8: 24818658 | F8: =F49 -> 20242132 | G8: =D8-C8 -> -48172468 | H8: =IF(E8=0,"",F8/E8-1) -> -0.18439861 | I8: =IF(D8=0,"N/A",F8/D8) -> 0.094999886
A9: D | B9: INDUSTRIAL PROPERTY | C9: 3088285073 | D9: =D87 -> 2.77045e+09 | E9: 355152787 | F9: =F87 -> 318601753 | G9: =D9-C9 -> -3.1783509e+08 | H9: =IF(E9=0,"",F9/E9-1) -> -0.10291637 | I9: =IF(D9=0,"N/A",F9/D9) -> 0.115
B10: STATE ASSESSED - MINERALS | C10: 3797719892 | D10: ='STATE ASSESSED'!C7 -> 3830460043 | E10: 3797719892 | F10: =D10 -> 3830460043 | G10: =D10-C10 -> 32740151 | H10: =IF(E10=0,"",F10/E10-1) -> 0.0086210021 | I10: =IF(D10=0,"N/A",F10/D10) -> 1
B11: STATE ASSESSED - OTHER | C11: 1707648682 | D11: ='STATE ASSESSED'!F7 -> 1655356885 | E11: 195666700 | F11: ='STATE ASSESSED'!I7 -> 189710389 | G11: =D11-C11 -> -52291797 | H11: =IF(E11=0,"",F11/E11-1) -> -0.030441107 | I11: =F11/D11 -> 0.11460392 | J11: *
H12: =IF(E12=0,"",F12/E12-1)
B13: LOCALLY ASSESSED VALUATION | C13: 8.2646542e+09 | D13: =SUM(D6:D9) -> 8.5889563e+09 | E13: 846908454 | F13: =SUM(F6:F9) -> 871360189 | G13: =SUM(G6:G9) -> 3.243022e+08 | H13: =IF(E13=0,"",F13/E13-1) -> 0.028871757
B14: STATE ASSESSED VALUATION | C14: 5505368574 | D14: =SUM(D10:D11) -> 5485816928 | E14: 3993386592 | F14: =SUM(F10:F11) -> 4020170432 | G14: =SUM(G10:G11) -> -19551646 | H14: =IF(E14=0,"",F14/E14-1) -> 0.0067070491
B15: TOTAL VALUATION | C15: 1.3770023e+10 | D15: =SUM(D13:D14) -> 1.4074773e+10 | E15: 4840295046 | F15: =SUM(F13:F14) -> 4891530621 | G15: =SUM(G13:G14) -> 3.0475055e+08 | H15: =IF(E15=0,"",F15/E15-1) -> 0.010585217
A18: * Telephone and cable are taxed at 9.5%. All others are taxed at 11.5%.
C19: 2025 | D19: =$D$3 -> 2026 | E19: 2025 | F19: =$D$3 -> 2026 | I19: =$D$3 -> 2026
C20: Productive | D20: Productive | E20: Assessed | F20: Assessed | G20: Productive Value | H20: Assessed Value | I20: Level of
A21: AGRICULTURAL LANDS | C21: Value | D21: Value | E21: Value | F21: Value | G21: Change | H21: % Change | I21: Assessment
A22: 110 | B22: IRRIGATED | C22: 667309 | D22: 567288 | E22: 63394 | F22: 53892 | G22: =D22-C22 -> -100021 | H22: =IF(E22=0,"",F22/E22-1) -> -0.149888 | I22: =IF(D22=0,"N/A",F22/D22) -> 0.094999365
A23: 120 | B23: DRY CROP | C23: 42193983 | D23: 37050574 | E23: 4008431 | F23: 3519810 | G23: =D23-C23 -> -5143409 | H23: =IF(E23=0,"",F23/E23-1) -> -0.12189832 | I23: =IF(D23=0,"N/A",F23/D23) -> 0.095000148
A24: 130 | B24: RANGE | C24: 141152591 | D24: 135303274 | E24: 13409506 | F24: 12853828 | G24: =D24-C24 -> -5849317 | H24: =IF(E24=0,"",F24/E24-1) -> -0.04143911 | I24: =IF(D24=0,"N/A",F24/D24) -> 0.095000125
A25: A | B25: TOTAL AG LANDS | C25: 184013883 | D25: =SUM(D22:D24) -> 172921136 | E25: 17481331 | F25: =SUM(F22:F24) -> 16427530 | G25: =SUM(G22:G24) -> -11092747 | H25: =IF(E25=0,"",F25/E25-1) -> -0.060281508 | I25: =IF(D25=0,"N/A",F25/D25) -> 0.095000128
C27: 2025 | D27: =$D$3 -> 2026 | E27: 2025 | F27: =$D$3 -> 2026
A28: AG ACREAGE | C28: Acres | D28: Acres | E28: Value/Acre | F28: Value/Acre | G28: Acre Change | H28: Value/Acre Change
A29: 110 | B29: IRRIGATED | C29: 316.23 | D29: 316.23 | E29: 2110.2014 | F29: =IF(D29<>0,D22/D29,0) -> 1793.9095 | G29: =D29-C29 -> 0 | H29: =F29-E29 -> -316.29194
A30: 120 | B30: DRY CROP | C30: 98569.78 | D30: 98220.149 | E30: 428.06206 | F30: =IF(D30<>0,D23/D30,0) -> 377.21969 | G30: =D30-C30 -> -349.63121 | H30: =F30-E30 -> -50.84237
A31: 130 | B31: RANGE | C31: 2191819.7 | D31: 2192878.4 | E31: 64.399727 | F31: =IF(D31<>0,D24/D31,0) -> 61.701219 | G31: =D31-C31 -> 1058.7219 | H31: =F31-E31 -> -2.6985073
C35: 2025 | D35: =$D$3 -> 2026 | E35: 2025 | F35: =$D$3 -> 2026 | G35: Dollar | H35: % | I35: =$D$3 -> 2026
C36: Fair Market | D36: Fair Market | E36: Assessed | F36: Assessed | G36: Market Value | H36: Assessed Value | I36: Level of
A37: REAL PROPERTY | C37: Value | D37: Value | E37: Value | F37: Value | G37: Change | H37: Change | I37: Assessment
A38: 200 | B38: RESIDENTIAL LAND | C38: 5.7439389e+08 | D38: 6.9703376e+08 | E38: 54567839 | F38: 66218323 | G38: =D38-C38 -> 1.2263987e+08 | H38: =IF(E38=0,"",F38/E38-1) -> 0.21350459 | I38: =IF(D38=0,"N/A",F38/D38) -> 0.095000166
A39: 300 | B39: RESIDENTIAL IMPROVED | C39: 2.5804371e+09 | D39: 3.0499597e+09 | E39: 245141543 | F39: 289746325 | G39: =D39-C39 -> 4.6952261e+08 | H39: =IF(E39=0,"",F39/E39-1) -> 0.18195521 | I39: =IF(D39=0,"N/A",F39/D39) -> 0.095000049
A40: 400 | B40: COMMERCIAL LAND | C40: 416879255 | D40: 480639018 | E40: 39603556 | F40: 45660726 | G40: =D40-C40 -> 63759763 | H40: =IF(E40=0,"",F40/E40-1) -> 0.1529451 | I40: =IF(D40=0,"N/A",F40/D40) -> 0.09500004
A41: 500 | B41: COMMERCIAL IMPROVED | C41: 1159397114 | D41: 1204877379 | E41: 110142740 | F41: 114463400 | G41: =D41-C41 -> 45480265 | H41: =IF(E41=0,"",F41/E41-1) -> 0.039227824 | I41: =IF(D41=0,"N/A",F41/D41) -> 0.095000041
A42: B | B42: TOTAL REAL PROPERTY | C42: 4.7311074e+09 | D42: =SUM(D38:D41) -> 5.4325099e+09 | E42: 449455678 | F42: =SUM(F38:F41) -> 516088774 | G42: =SUM(G38:G41) -> 7.014025e+08 | H42: =IF(E42=0,"",F42/E42-1) -> 0.14825287 | I42: =IF(D42=0,"N/A",F42/D42) -> 0.095000061
C44: 2025 | D44: =$D$3 -> 2026 | E44: 2025 | F44: =$D$3 -> 2026 | G44: Dollar | H44: % | I44: =$D$3 -> 2026
C45: Fair Market | D45: Fair Market | E45: Assessed | F45: Assessed | G45: Market Value | H45: Assessed Value | I45: Level of
A46: PERSONAL PROPERTY | C46: Value | D46: Value | E46: Value | F46: Value | G46: Change | H46: Change | I46: Assessment
A47: 610 | B47: RESIDENTIAL PERSONAL PROPERTY | C47: 36937016 | D47: 51382646 | E47: 3508985 | F47: 4881317 | G47: =D47-C47 -> 14445630 | H47: =IF(E47=0,"",F47/E47-1) -> 0.39109087 | I47: =IF(D47=0,"N/A",F47/D47) -> 0.094999331
A48: 730 | B48: COMMERCAIL PERSONAL PROPERTY | C48: 224310781 | D48: 1.6169268e+08 | E48: 21309673 | F48: 15360815 | G48: =D48-C48 -> -62618097 | H48: =IF(E48=0,"",F48/E48-1) -> -0.27916233 | I48: =IF(D48=0,"N/A",F48/D48) -> 0.095000062
...

Sheet Carbon Value
A1: ="CARBON COUNTY "&D3 -> CARBON COUNTY 2026
C3: 2025 | D3: ='Albany Value'!D3 -> 2026 | E3: 2025 | F3: =$D$3 -> 2026 | I3: =$D$3 -> 2026
C4: Productive | D4: Productive | E4: Assessed | F4: Assessed | G4: Productive Value | H4: Assessed Value | I4: Level of
A5: LINE | B5: CLASSIFICATION | C5: Value | D5: Value | E5: Value | F5: Value | G5: Change | H5: % Change | I5: Assessment
A6: A | B6: AGRICULTRAL LAND | C6: 210187464 | D6: =D25 -> 209967702 | E6: 19967854 | F6: =F25 -> 19946970 | G6: =D6-C6 -> -219762 | H6: =IF(E6=0,"",F6/E6-1) -> -0.001045881 | I6: =IF(D6=0,"N/A",F6/D6) -> 0.095000182
A7: B | B7: REAL PROPERTY | C7: 1.6851562e+09 | D7: =D42 -> 1.9543405e+09 | E7: 160089868 | F7: =F42 -> 185662297 | G7: =D7-C7 -> 2.6918429e+08 | H7: =IF(E7=0,"",F7/E7-1) -> 0.15973796 | I7: =IF(D7=0,"N/A",F7/D7) -> 0.094999973
A8: C | B8: PERSONAL PROPERTY | C8: 132183722 | D8: =D49 -> 1.1691774e+08 | E8: 12557470 | F8: =F49 -> 11107196 | G8: =D8-C8 -> -15265986 | H8: =IF(E8=0,"",F8/E8-1) -> -0.11549094 | I8: =IF(D8=0,"N/A",F8/D8) -> 0.095000095
A9: D | B9: INDUSTRIAL PROPERTY | C9: 1552935943 | D9: =D87 -> 1533506812 | E9: 178587629 | F9: =F87 -> 176353281 | G9: =D9-C9 -> -19429131 | H9: =IF(E9=0,"",F9/E9-1) -> -0.012511214 | I9: =IF(D9=0,"N/A",F9/D9) -> 0.115
B10: STATE ASSESSED - MINERALS | C10: 169829454 | D10: ='STATE ASSESSED'!C8 -> 253900762 | E10: 169829454 | F10: =D10 -> 253900762 | G10: =D10-C10 -> 84071308 | H10: =IF(E10=0,"",F10/E10-1) -> 0.49503373 | I10: =IF(D10=0,"N/A",F10/D10) -> 1
B11: STATE ASSESSED - OTHER | C11: 1479164969 | D11: ='STATE ASSESSED'!F8 -> 1565995548 | E11: 169569561 | F11: ='STATE ASSESSED'!I8 -> 179745646 | G11: =D11-C11 -> 86830579 | H11: =IF(E11=0,"",F11/E11-1) -> 0.060011272 | I11: =F11/D11 -> 0.11478043 | J11: *
H12: =IF(E12=0,"",F12/E12-1)
B13: LOCALLY ASSESSED VALUATION | C13: 3.5804634e+09 | D13: =SUM(D6:D9) -> 3.8147328e+09 | E13: 371202821 | F13: =SUM(F6:F9) -> 393069744 | G13: =SUM(G6:G9) -> 2.3426941e+08 | H13: =IF(E13=0,"",F13/E13-1) -> 0.058908289
B14: STATE ASSESSED VALUATION | C14: 1648994423 | D14: =SUM(D10:D11) -> 1819896310 | E14: 339399015 | F14: =SUM(F10:F11) -> 433646408 | G14: =SUM(G10:G11) -> 170901887 | H14: =IF(E14=0,"",F14/E14-1) -> 0.27768906
B15: TOTAL VALUATION | C15: 5.2294578e+09 | D15: =SUM(D13:D14) -> 5.6346291e+09 | E15: 710601836 | F15: =SUM(F13:F14) -> 826716152 | G15: =SUM(G13:G14) -> 4.051713e+08 | H15: =IF(E15=0,"",F15/E15-1) -> 0.16340278
A18: * Telephone and cable are taxed at 9.5%. All others are taxed at 11.5%.
C19: 2025 | D19: =$D$3 -> 2026 | E19: 2025 | F19: =$D$3 -> 2026 | I19: =$D$3 -> 2026
C20: Productive | D20: Productive | E20: Assessed | F20: Assessed | G20: Productive Value | H20: Assessed Value | I20: Level of
A21: AGRICULTURAL LANDS | C21: Value | D21: Value | E21: Value | F21: Value | G21: Change | H21: % Change | I21: Assessment
A22: 110 | B22: IRRIGATED | C22: 131202789 | D22: 130990824 | E22: 12464265 | F22: 12444127 | G22: =D22-C22 -> -211965 | H22: =IF(E22=0,"",F22/E22-1) -> -0.0016156588 | I22: =IF(D22=0,"N/A",F22/D22) -> 0.09499999
A23: 120 | B23: DRY CROP | C23: 4719 | D23: 4719 | E23: 448 | F23: 448 | G23: =D23-C23 -> 0 | H23: =IF(E23=0,"",F23/E23-1) -> 0 | I23: =IF(D23=0,"N/A",F23/D23) -> 0.094935368
A24: 130 | B24: RANGE | C24: 78979956 | D24: 78972159 | E24: 7503141 | F24: 7502395 | G24: =D24-C24 -> -7797 | H24: =IF(E24=0,"",F24/E24-1) -> -9.9425027e-05 | I24: =IF(D24=0,"N/A",F24/D24) -> 0.095000505
A25: A | B25: TOTAL AG LANDS | C25: 210187464 | D25: =SUM(D22:D24) -> 209967702 | E25: 19967854 | F25: =SUM(F22:F24) -> 19946970 | G25: =SUM(G22:G24) -> -219762 | H25: =IF(E25=0,"",F25/E25-1) -> -0.001045881 | I25: =IF(D25=0,"N/A",F25/D25) -> 0.095000182
C27: 2025 | D27: =$D$3 -> 2026 | E27: 2025 | F27: =$D$3 -> 2026
A28: AG ACREAGE | C28: Acres | D28: Acres | E28: Value/Acre | F28: Value/Acre | G28: Acre Change | H28: Value/Acre Change
A29: 110 | B29: IRRIGATED | C29: 124826.05 | D29: 125203.1 | E29: 1051.085 | F29: =IF(D29<>0,D22/D29,0) -> 1046.2267 | G29: =D29-C29 -> 377.05 | H29: =F29-E29 -> -4.8583193
A30: 120 | B30: DRY CROP | C30: 13 | D30: 13 | E30: 363 | F30: =IF(D30<>0,D23/D30,0) -> 363 | G30: =D30-C30 -> 0 | H30: =F30-E30 -> 0
A31: 130 | B31: RANGE | C31: 1628800.5 | D31: 1631720.8 | E31: 48.489644 | F31: =IF(D31<>0,D24/D31,0) -> 48.398084 | G31: =D31-C31 -> 2920.27 | H31: =F31-E31 -> -0.091559693
C35: 2025 | D35: =$D$3 -> 2026 | E35: 2025 | F35: =$D$3 -> 2026 | G35: Dollar | H35: % | I35: =$D$3 -> 2026
C36: Fair Market | D36: Fair Market | E36: Assessed | F36: Assessed | G36: Market Value | H36: Assessed Value | I36: Level of
A37: REAL PROPERTY | C37: Value | D37: Value | E37: Value | F37: Value | G37: Change | H37: Change | I37: Assessment
A38: 200 | B38: RESIDENTIAL LAND | C38: 3.319404e+08 | D38: 3.8801479e+08 | E38: 31534352 | F38: 36861345 | G38: =D38-C38 -> 56074393 | H38: =IF(E38=0,"",F38/E38-1) -> 0.16892667 | I38: =IF(D38=0,"N/A",F38/D38) -> 0.094999845
A39: 300 | B39: RESIDENTIAL IMPROVED | C39: 8.6824545e+08 | D39: 1.0779624e+09 | E39: 82483316 | F39: 102406440 | G39: =D39-C39 -> 2.0971693e+08 | H39: =IF(E39=0,"",F39/E39-1) -> 0.24154126 | I39: =IF(D39=0,"N/A",F39/D39) -> 0.095000012
A40: 400 | B40: COMMERCIAL LAND | C40: 66482729 | D40: 71175739 | E40: 6315862 | F40: 6761686 | G40: =D40-C40 -> 4693010 | H40: =IF(E40=0,"",F40/E40-1) -> 0.070587989 | I40: =IF(D40=0,"N/A",F40/D40) -> 0.094999871
A41: 500 | B41: COMMERCIAL IMPROVED | C41: 418487647 | D41: 417187602 | E41: 39756338 | F41: 39632826 | G41: =D41-C41 -> -1300045 | H41: =IF(E41=0,"",F41/E41-1) -> -0.0031067248 | I41: =IF(D41=0,"N/A",F41/D41) -> 0.095000009
A42: B | B42: TOTAL REAL PROPERTY | C42: 1.6851562e+09 | D42: =SUM(D38:D41) -> 1.9543405e+09 | E42: 160089868 | F42: =SUM(F38:F41) -> 185662297 | G42: =SUM(G38:G41) -> 2.6918429e+08 | H42: =IF(E42=0,"",F42/E42-1) -> 0.15973796 | I42: =IF(D42=0,"N/A",F42/D42) -> 0.094999973
C44: 2025 | D44: =$D$3 -> 2026 | E44: 2025 | F44: =$D$3 -> 2026 | G44: Dollar | H44: % | I44: =$D$3 -> 2026
C45: Fair Market | D45: Fair Market | E45: Assessed | F45: Assessed | G45: Market Value | H45: Assessed Value | I45: Level of
A46: PERSONAL PROPERTY | C46: Value | D46: Value | E46: Value | F46: Value | G46: Change | H46: Change | I46: Assessment
A47: 610 | B47: RESIDENTIAL PERSONAL PROPERTY | C47: 22928938 | D47: 28723177 | E47: 2178255 | F47: 2728711 | G47: =D47-C47 -> 5794238.8 | H47: =IF(E47=0,"",F47/E47-1) -> 0.25270503 | I47: =IF(D47=0,"N/A",F47/D47) -> 0.095000321
A48: 730 | B48: COMMERCAIL PERSONAL PROPERTY | C48: 109254784 | D48: 88194559 | E48: 10379215 | F48: 8378485 | G48: =D48-C48 -> -21060225 | H48: =IF(E48=0,"",F48/E48-1) -> -0.19276313 | I48: =IF(D48=0,"N/A",F48/D48) -> 0.095000021
...

Sheet Converse Value
A1: ="CONVERSE COUNTY "&D3 -> CONVERSE COUNTY 2026
C3: 2025 | D3: ='Albany Value'!D3 -> 2026 | E3: 2025 | F3: =$D$3 -> 2026 | I3: =$D$3 -> 2026
C4: Productive | D4: Productive | E4: Assessed | F4: Assessed | G4: Productive Value | H4: Assessed Value | I4: Level of
A5: LINE | B5: CLASSIFICATION | C5: Value | D5: Value | E5: Value | F5: Value | G5: Change | H5: % Change | I5: Assessment
A6: A | B6: AGRICULTRAL LAND | C6: 242286575 | D6: =D25 -> 226140617 | E6: 23017218 | F6: =F25 -> 21483395 | G6: =D6-C6 -> -16145958 | H6: =IF(E6=0,"",F6/E6-1) -> -0.066638071 | I6: =IF(D6=0,"N/A",F6/D6) -> 0.095000161
A7: B | B7: REAL PROPERTY | C7: 1.4858062e+09 | D7: =D42 -> 1.7146873e+09 | E7: 141151936 | F7: =F42 -> 162895393 | G7: =D7-C7 -> 2.2888115e+08 | H7: =IF(E7=0,"",F7/E7-1) -> 0.15404292 | I7: =IF(D7=0,"N/A",F7/D7) -> 0.095000057
A8: C | B8: PERSONAL PROPERTY | C8: 1.4515071e+08 | D8: =D49 -> 1.0281571e+08 | E8: 13789321 | F8: =F49 -> 9767505 | G8: =D8-C8 -> -42335002 | H8: =IF(E8=0,"",F8/E8-1) -> -0.29166164 | I8: =IF(D8=0,"N/A",F8/D8) -> 0.095000126
A9: D | B9: INDUSTRIAL PROPERTY | C9: 3070519910 | D9: =D87 -> 2.9822935e+09 | E9: 353109781 | F9: =F87 -> 342963768 | G9: =D9-C9 -> -88226423 | H9: =IF(E9=0,"",F9/E9-1) -> -0.028733311 | I9: =IF(D9=0,"N/A",F9/D9) -> 0.11500001
B10: STATE ASSESSED - MINERALS | C10: 3113654364 | D10: ='MINERAL VALUE DETAIL'!X8 -> 2891873279 | E10: 3113654364 | F10: =D10 -> 2891873279 | G10: =D10-C10 -> -221781085 | H10: =IF(E10=0,"",F10/E10-1) -> -0.07122855 | I10: =IF(D10=0,"N/A",F10/D10) -> 1
B11: STATE ASSESSED - OTHER | C11: 1511133431 | D11: ='STATE ASSESSED'!F9 -> 1566131821 | E11: 173482282 | F11: ='STATE ASSESSED'!I9 -> 179899190 | G11: =D11-C11 -> 54998390 | H11: =IF(E11=0,"",F11/E11-1) -> 0.036988838 | I11: =F11/D11 -> 0.11486849 | J11: *
H12: =IF(E12=0,"",F12/E12-1)
B13: LOCALLY ASSESSED VALUATION | C13: 4.9437634e+09 | D13: =SUM(D6:D9) -> 5.0259371e+09 | E13: 531068256 | F13: =SUM(F6:F9) -> 537110061 | G13: =SUM(G6:G9) -> 82173769 | H13: =IF(E13=0,"",F13/E13-1) -> 0.011376701
B14: STATE ASSESSED VALUATION | C14: 4624787795 | D14: =SUM(D10:D11) -> 4458005100 | E14: 3287136646 | F14: =SUM(F10:F11) -> 3071772469 | G14: =SUM(G10:G11) -> -166782695 | H14: =IF(E14=0,"",F14/E14-1) -> -0.065517257
B15: TOTAL VALUATION | C15: 9.5685512e+09 | D15: =SUM(D13:D14) -> 9.4839422e+09 | E15: 3818204902 | F15: =SUM(F13:F14) -> 3608882530 | G15: =SUM(G13:G14) -> -84608926 | H15: =IF(E15=0,"",F15/E15-1) -> -0.054822195
A18: * Telephone and cable are taxed at 9.5%. All others are taxed at 11.5%.
C19: 2025 | D19: =$D$3 -> 2026 | E19: 2025 | F19: =$D$3 -> 2026 | I19: =$D$3 -> 2026
C20: Productive | D20: Productive | E20: Assessed | F20: Assessed | G20: Productive Value | H20: Assessed Value | I20: Level of
A21: AGRICULTURAL LANDS | C21: Value | D21: Value | E21: Value | F21: Value | G21: Change | H21: % Change | I21: Assessment
A22: 110 | B22: IRRIGATED | C22: 97434846 | D22: 87497215 | E22: 9256316 | F22: 8312227 | G22: =D22-C22 -> -9937631 | H22: =IF(E22=0,"",F22/E22-1) -> -0.10199403 | I22: =IF(D22=0,"N/A",F22/D22) -> 0.094999904
A23: 120 | B23: DRY CROP | C23: 1951168 | D23: 1772780 | E23: 185362 | F23: 168412 | G23: =D23-C23 -> -178388 | H23: =IF(E23=0,"",F23/E23-1) -> -0.091442691 | I23: =IF(D23=0,"N/A",F23/D23) -> 0.094998815
A24: 130 | B24: RANGE | C24: 142900561 | D24: 136870622 | E24: 13575540 | F24: 13002756 | G24: =D24-C24 -> -6029939 | H24: =IF(E24=0,"",F24/E24-1) -> -0.042192355 | I24: =IF(D24=0,"N/A",F24/D24) -> 0.095000343
A25: A | B25: TOTAL AG LANDS | C25: 242286575 | D25: =SUM(D22:D24) -> 226140617 | E25: 23017218 | F25: =SUM(F22:F24) -> 21483395 | G25: =SUM(G22:G24) -> -16145958 | H25: =IF(E25=0,"",F25/E25-1) -> -0.066638071 | I25: =IF(D25=0,"N/A",F25/D25) -> 0.095000161
C27: 2025 | D27: =$D$3 -> 2026 | E27: 2025 | F27: =$D$3 -> 2026
A28: AG ACREAGE | C28: Acres | D28: Acres | E28: Value/Acre | F28: Value/Acre | G28: Acre Change | H28: Value/Acre Change
A29: 110 | B29: IRRIGATED | C29: 42229.66 | D29: 42528.778 | E29: 2307.261 | F29: =IF(D29<>0,D22/D29,0) -> 2057.3649 | G29: =D29-C29 -> 299.118 | H29: =F29-E29 -> -249.89607
A30: 120 | B30: DRY CROP | C30: 4851.95 | D30: 4797.29 | E30: 402.14099 | F30: =IF(D30<>0,D23/D30,0) -> 369.5378 | G30: =D30-C30 -> -54.66 | H30: =F30-E30 -> -32.603193
A31: 130 | B31: RANGE | C31: 1873541.4 | D31: 1872368.6 | E31: 76.272965 | F31: =IF(D31<>0,D24/D31,0) -> 73.100256 | G31: =D31-C31 -> -1172.875 | H31: =F31-E31 -> -3.1727089
C35: 2025 | D35: =$D$3 -> 2026 | E35: 2025 | F35: =$D$3 -> 2026 | G35: Dollar | H35: % | I35: =$D$3 -> 2026
C36: Fair Market | D36: Fair Market | E36: Assessed | F36: Assessed | G36: Market Value | H36: Assessed Value | I36: Level of
A37: REAL PROPERTY | C37: Value | D37: Value | E37: Value | F37: Value | G37: Change | H37: Change | I37: Assessment
A38: 200 | B38: RESIDENTIAL LAND | C38: 2.5107119e+08 | D38: 3.0076152e+08 | E38: 23852012 | F38: 28572382 | G38: =D38-C38 -> 49690328 | H38: =IF(E38=0,"",F38/E38-1) -> 0.19790238 | I38: =IF(D38=0,"N/A",F38/D38) -> 0.095000126
A39: 300 | B39: RESIDENTIAL IMPROVED | C39: 9.0578619e+08 | D39: 1.0755596e+09 | E39: 86049757 | F39: 102178185 | G39: =D39-C39 -> 1.6977341e+08 | H39: =IF(E39=0,"",F39/E39-1) -> 0.18743142 | I39: =IF(D39=0,"N/A",F39/D39) -> 0.095000022
A40: 400 | B40: COMMERCIAL LAND | C40: 77186716 | D40: 77657350 | E40: 7332759 | F40: 7377473 | G40: =D40-C40 -> 470634 | H40: =IF(E40=0,"",F40/E40-1) -> 0.0060978412 | I40: =IF(D40=0,"N/A",F40/D40) -> 0.095000319
A41: 500 | B41: COMMERCIAL IMPROVED | C41: 251762074 | D41: 260708854 | E41: 23917408 | F41: 24767353 | G41: =D41-C41 -> 8946780 | H41: =IF(E41=0,"",F41/E41-1) -> 0.035536669 | I41: =IF(D41=0,"N/A",F41/D41) -> 0.095000046
A42: B | B42: TOTAL REAL PROPERTY | C42: 1.4858062e+09 | D42: =SUM(D38:D41) -> 1.7146873e+09 | E42: 141151936 | F42: =SUM(F38:F41) -> 162895393 | G42: =SUM(G38:G41) -> 2.2888115e+08 | H42: =IF(E42=0,"",F42/E42-1) -> 0.15404292 | I42: =IF(D42=0,"N/A",F42/D42) -> 0.095000057
C44: 2025 | D44: =$D$3 -> 2026 | E44: 2025 | F44: =$D$3 -> 2026 | G44: Dollar | H44: % | I44: =$D$3 -> 2026
C45: Fair Market | D45: Fair Market | E45: Assessed | F45: Assessed | G45: Market Value | H45: Assessed Value | I45: Level of
A46: PERSONAL PROPERTY | C46: Value | D46: Value | E46: Value | F46: Value | G46: Change | H46: Change | I46: Assessment
A47: 610 | B47: RESIDENTIAL PERSONAL PROPERTY | C47: 15847341 | D47: 20144000 | E47: 1505504 | F47: 1913686 | G47: =D47-C47 -> 4296658.9 | H47: =IF(E47=0,"",F47/E47-1) -> 0.27112648 | I47: =IF(D47=0,"N/A",F47/D47) -> 0.0950003
A48: 730 | B48: COMMERCAIL PERSONAL PROPERTY | C48: 129303367 | D48: 82671706 | E48: 12283817 | F48: 7853819 | G48: =D48-C48 -> -46631661 | H48: =IF(E48=0,"",F48/E48-1) -> -0.36063693 | I48: =IF(D48=0,"N/A",F48/D48) -> 0.095000083
...

Sheet Crook Value
A1: ="CROOK COUNTY "&D3 -> CROOK COUNTY 2026
C3: 2025 | D3: ='Albany Value'!D3 -> 2026 | E3: 2025 | F3: =$D$3 -> 2026 | I3: =$D$3 -> 2026
C4: Productive | D4: Productive | E4: Assessed | F4: Assessed | G4: Productive Value | H4: Assessed Value | I4: Level of
A5: LINE | B5: CLASSIFICATION | C5: Value | D5: Value | E5: Value | F5: Value | G5: Change | H5: % Change | I5: Assessment
A6: A | B6: AGRICULTRAL LAND | C6: 2.1952873e+08 | D6: =D25 -> 207264523 | E6: 20855258 | F6: =F25 -> 19690169 | G6: =D6-C6 -> -12264211 | H6: =IF(E6=0,"",F6/E6-1) -> -0.05586548 | I6: =IF(D6=0,"N/A",F6/D6) -> 0.09500019
A7: B | B7: REAL PROPERTY | C7: 9.9581127e+08 | D7: =D42 -> 1.1437928e+09 | E7: 94602057 | F7: =F42 -> 108660466 | G7: =D7-C7 -> 1.4798148e+08 | H7: =IF(E7=0,"",F7/E7-1) -> 0.14860574 | I7: =IF(D7=0,"N/A",F7/D7) -> 0.095000135
A8: C | B8: PERSONAL PROPERTY | C8: 74636633 | D8: =D49 -> 58414709 | E8: 7090474 | F8: =F49 -> 5549383 | G8: =D8-C8 -> -16221924 | H8: =IF(E8=0,"",F8/E8-1) -> -0.21734668 | I8: =IF(D8=0,"N/A",F8/D8) -> 0.094999754
A9: D | B9: INDUSTRIAL PROPERTY | C9: 151430105 | D9: =D87 -> 1.7040721e+08 | E9: 17414470 | F9: =F87 -> 19596827 | G9: =D9-C9 -> 18977101 | H9: =IF(E9=0,"",F9/E9-1) -> 0.1253186 | I9: =IF(D9=0,"N/A",F9/D9) -> 0.11499999
B10: STATE ASSESSED - MINERALS | C10: 80646008 | D10: ='STATE ASSESSED'!C10 -> 74687177 | E10: 80646008 | F10: =D10 -> 74687177 | G10: =D10-C10 -> -5958831 | H10: =IF(E10=0,"",F10/E10-1) -> -0.073888729 | I10: =IF(D10=0,"N/A",F10/D10) -> 1
B11: STATE ASSESSED - OTHER | C11: 546830502 | D11: ='STATE ASSESSED'!F10 -> 563433239 | E11: 62673621 | F11: ='STATE ASSESSED'!I10 -> 64613027 | G11: =D11-C11 -> 16602737 | H11: =IF(E11=0,"",F11/E11-1) -> 0.030944534 | I11: =F11/D11 -> 0.11467734 | J11: *
H12: =IF(E12=0,"",F12/E12-1)
B13: LOCALLY ASSESSED VALUATION | C13: 1.4414067e+09 | D13: =SUM(D6:D9) -> 1.5798792e+09 | E13: 139962259 | F13: =SUM(F6:F9) -> 153496845 | G13: =SUM(G6:G9) -> 1.3847245e+08 | H13: =IF(E13=0,"",F13/E13-1) -> 0.096701683
B14: STATE ASSESSED VALUATION | C14: 627476510 | D14: =SUM(D10:D11) -> 638120416 | E14: 143319629 | F14: =SUM(F10:F11) -> 139300204 | G14: =SUM(G10:G11) -> 10643906 | H14: =IF(E14=0,"",F14/E14-1) -> -0.028045181
B15: TOTAL VALUATION | C15: 2.0688833e+09 | D15: =SUM(D13:D14) -> 2.2179996e+09 | E15: 283281888 | F15: =SUM(F13:F14) -> 292797049 | G15: =SUM(G13:G14) -> 1.4911635e+08 | H15: =IF(E15=0,"",F15/E15-1) -> 0.03358902
A18: * Telephone and cable are taxed at 9.5%. All others are taxed at 11.5%.
C19: 2025 | D19: =$D$3 -> 2026 | E19: 2025 | F19: =$D$3 -> 2026 | I19: =$D$3 -> 2026
C20: Productive | D20: Productive | E20: Assessed | F20: Assessed | G20: Productive Value | H20: Assessed Value | I20: Level of
A21: AGRICULTURAL LANDS | C21: Value | D21: Value | E21: Value | F21: Value | G21: Change | H21: % Change | I21: Assessment
A22: 110 | B22: IRRIGATED | C22: 7976836.8 | D22: 6782132 | E22: 757803 | F22: 644303 | G22: =D22-C22 -> -1194704.8 | H22: =IF(E22=0,"",F22/E22-1) -> -0.14977507 | I22: =IF(D22=0,"N/A",F22/D22) -> 0.095000068
A23: 120 | B23: DRY CROP | C23: 42401773 | D23: 36889140 | E23: 4028168 | F23: 3504469 | G23: =D23-C23 -> -5512632.7 | H23: =IF(E23=0,"",F23/E23-1) -> -0.13000923 | I23: =IF(D23=0,"N/A",F23/D23) -> 0.095000019
A24: 130 | B24: RANGE | C24: 1.6915012e+08 | D24: 163593251 | E24: 16069287 | F24: 15541397 | G24: =D24-C24 -> -5556873.2 | H24: =IF(E24=0,"",F24/E24-1) -> -0.032850866 | I24: =IF(D24=0,"N/A",F24/D24) -> 0.095000233
A25: A | B25: TOTAL AG LANDS | C25: 2.1952873e+08 | D25: =SUM(D22:D24) -> 207264523 | E25: 20855258 | F25: =SUM(F22:F24) -> 19690169 | G25: =SUM(G22:G24) -> -12264211 | H25: =IF(E25=0,"",F25/E25-1) -> -0.05586548 | I25: =IF(D25=0,"N/A",F25/D25) -> 0.09500019
C27: 2025 | D27: =$D$3 -> 2026 | E27: 2025 | F27: =$D$3 -> 2026
A28: AG ACREAGE | C28: Acres | D28: Acres | E28: Value/Acre | F28: Value/Acre | G28: Acre Change | H28: Value/Acre Change
A29: 110 | B29: IRRIGATED | C29: 3239.19 | D29: 3236.16 | E29: 2462.6023 | F29: =IF(D29<>0,D22/D29,0) -> 2095.7345 | G29: =D29-C29 -> -3.03 | H29: =F29-E29 -> -366.86786
A30: 120 | B30: DRY CROP | C30: 105034.56 | D30: 103151.36 | E30: 403.69353 | F30: =IF(D30<>0,D23/D30,0) -> 357.62146 | G30: =D30-C30 -> -1883.2 | H30: =F30-E30 -> -46.072073
A31: 130 | B31: RANGE | C31: 1241955.4 | D31: 1244866.5 | E31: 136.19662 | F31: =IF(D31<>0,D24/D31,0) -> 131.41429 | G31: =D31-C31 -> 2911.11 | H31: =F31-E31 -> -4.7823253
C35: 2025 | D35: =$D$3 -> 2026 | E35: 2025 | F35: =$D$3 -> 2026 | G35: Dollar | H35: % | I35: =$D$3 -> 2026
C36: Fair Market | D36: Fair Market | E36: Assessed | F36: Assessed | G36: Market Value | H36: Assessed Value | I36: Level of
A37: REAL PROPERTY | C37: Value | D37: Value | E37: Value | F37: Value | G37: Change | H37: Change | I37: Assessment
A38: 200 | B38: RESIDENTIAL LAND | C38: 2.906334e+08 | D38: 3.1278589e+08 | E38: 27610143 | F38: 29714769 | G38: =D38-C38 -> 22152486 | H38: =IF(E38=0,"",F38/E38-1) -> 0.076226552 | I38: =IF(D38=0,"N/A",F38/D38) -> 0.09500035
A39: 300 | B39: RESIDENTIAL IMPROVED | C39: 5.7129506e+08 | D39: 6.9537932e+08 | E39: 54273040 | F39: 66061060 | G39: =D39-C39 -> 1.2408426e+08 | H39: =IF(E39=0,"",F39/E39-1) -> 0.21719845 | I39: =IF(D39=0,"N/A",F39/D39) -> 0.095000035
A40: 400 | B40: COMMERCIAL LAND | C40: 22887736 | D40: 22246769 | E40: 2174354 | F40: 2113458 | G40: =D40-C40 -> -640967.36 | H40: =IF(E40=0,"",F40/E40-1) -> -0.028006479 | I40: =IF(D40=0,"N/A",F40/D40) -> 0.095000673
A41: 500 | B41: COMMERCIAL IMPROVED | C41: 1.1099508e+08 | D41: 1.1338078e+08 | E41: 10544520 | F41: 10771179 | G41: =D41-C41 -> 2385701.9 | H41: =IF(E41=0,"",F41/E41-1) -> 0.021495431 | I41: =IF(D41=0,"N/A",F41/D41) -> 0.095000045
A42: B | B42: TOTAL REAL PROPERTY | C42: 9.9581127e+08 | D42: =SUM(D38:D41) -> 1.1437928e+09 | E42: 94602057 | F42: =SUM(F38:F41) -> 108660466 | G42: =SUM(G38:G41) -> 1.4798148e+08 | H42: =IF(E42=0,"",F42/E42-1) -> 0.14860574 | I42: =IF(D42=0,"N/A",F42/D42) -> 0.095000135
C44: 2025 | D44: =$D$3 -> 2026 | E44: 2025 | F44: =$D$3 -> 2026 | G44: Dollar | H44: % | I44: =$D$3 -> 2026
C45: Fair Market | D45: Fair Market | E45: Assessed | F45: Assessed | G45: Market Value | H45: Assessed Value | I45: Level of
A46: PERSONAL PROPERTY | C46: Value | D46: Value | E46: Value | F46: Value | G46: Change | H46: Change | I46: Assessment
A47: 610 | B47: RESIDENTIAL PERSONAL PROPERTY | C47: 18895969 | D47: 23425504 | E47: 1795114 | F47: 2225415 | G47: =D47-C47 -> 4529534.3 | H47: =IF(E47=0,"",F47/E47-1) -> 0.23970678 | I47: =IF(D47=0,"N/A",F47/D47) -> 0.094999665
A48: 730 | B48: COMMERCAIL PERSONAL PROPERTY | C48: 55740664 | D48: 34989205 | E48: 5295360 | F48: 3323968 | G48: =D48-C48 -> -20751458 | H48: =IF(E48=0,"",F48/E48-1) -> -0.37228668 | I48: =IF(D48=0,"N/A",F48/D48) -> 0.094999814
...

Sheet Fremont Value
A1: ="FREMONT COUNTY "&D3 -> FREMONT COUNTY 2026
C3: 2025 | D3: ='Albany Value'!D3 -> 2026 | E3: 2025 | F3: =$D$3 -> 2026 | I3: =$D$3 -> 2026
C4: Productive | D4: Productive | E4: Assessed | F4: Assessed | G4: Productive Value | H4: Assessed Value | I4: Level of
A5: LINE | B5: CLASSIFICATION | C5: Value | D5: Value | E5: Value | F5: Value | G5: Change | H5: % Change | I5: Assessment
A6: A | B6: AGRICULTRAL LAND | C6: 256689124 | D6: =D25 -> 238155560 | E6: 24385535 | F6: =F25 -> 22624868 | G6: =D6-C6 -> -18533564 | H6: =IF(E6=0,"",F6/E6-1) -> -0.072201287 | I6: =IF(D6=0,"N/A",F6/D6) -> 0.095000377
A7: B | B7: REAL PROPERTY | C7: 3.9527872e+09 | D7: =D42 -> 4.6548164e+09 | E7: 375514989 | F7: =F42 -> 442207762 | G7: =D7-C7 -> 7.0202915e+08 | H7: =IF(E7=0,"",F7/E7-1) -> 0.17760349 | I7: =IF(D7=0,"N/A",F7/D7) -> 0.095000044
A8: C | B8: PERSONAL PROPERTY | C8: 1.8087243e+08 | D8: =D49 -> 151315138 | E8: 17182842 | F8: =F49 -> 14374955 | G8: =D8-C8 -> -29557292 | H8: =IF(E8=0,"",F8/E8-1) -> -0.16341226 | I8: =IF(D8=0,"N/A",F8/D8) -> 0.095000112
A9: D | B9: INDUSTRIAL PROPERTY | C9: 465995764 | D9: =D87 -> 448246418 | E9: 53589517 | F9: =F87 -> 51548336 | G9: =D9-C9 -> -17749346 | H9: =IF(E9=0,"",F9/E9-1) -> -0.038089184 | I9: =IF(D9=0,"N/A",F9/D9) -> 0.115
B10: STATE ASSESSED - MINERALS | C10: 199314069 | D10: ='STATE ASSESSED'!C11 -> 173091889 | E10: 199314069 | F10: =D10 -> 173091889 | G10: =D10-C10 -> -26222180 | H10: =IF(E10=0,"",F10/E10-1) -> -0.13156211 | I10: =IF(D10=0,"N/A",F10/D10) -> 1
B11: STATE ASSESSED - OTHER | C11: 234804499 | D11: ='STATE ASSESSED'!F11 -> 231075680 | E11: 26263138 | F11: ='STATE ASSESSED'!I11 -> 25962508 | G11: =D11-C11 -> -3728819 | H11: =IF(E11=0,"",F11/E11-1) -> -0.011446842 | I11: =F11/D11 -> 0.112355 | J11: *
H12: =IF(E12=0,"",F12/E12-1)
B13: LOCALLY ASSESSED VALUATION | C13: 4.8563445e+09 | D13: =SUM(D6:D9) -> 5.4925335e+09 | E13: 470672883 | F13: =SUM(F6:F9) -> 530755921 | G13: =SUM(G6:G9) -> 6.3618895e+08 | H13: =IF(E13=0,"",F13/E13-1) -> 0.12765349
B14: STATE ASSESSED VALUATION | C14: 434118568 | D14: =SUM(D10:D11) -> 404167569 | E14: 225577207 | F14: =SUM(F10:F11) -> 199054397 | G14: =SUM(G10:G11) -> -29950999 | H14: =IF(E14=0,"",F14/E14-1) -> -0.11757753
B15: TOTAL VALUATION | C15: 5.2904631e+09 | D15: =SUM(D13:D14) -> 5.8967011e+09 | E15: 696250090 | F15: =SUM(F13:F14) -> 729810318 | G15: =SUM(G13:G14) -> 6.0623795e+08 | H15: =IF(E15=0,"",F15/E15-1) -> 0.048201398
A18: * Telephone and cable are taxed at 9.5%. All others are taxed at 11.5%.
C19: 2025 | D19: =$D$3 -> 2026 | E19: 2025 | F19: =$D$3 -> 2026 | I19: =$D$3 -> 2026
C20: Productive | D20: Productive | E20: Assessed | F20: Assessed | G20: Productive Value | H20: Assessed Value | I20: Level of
A21: AGRICULTURAL LANDS | C21: Value | D21: Value | E21: Value | F21: Value | G21: Change | H21: % Change | I21: Assessment
A22: 110 | B22: IRRIGATED | C22: 192485497 | D22: 176034422 | E22: 18286126 | F22: 16723270 | G22: =D22-C22 -> -16451075 | H22: =IF(E22=0,"",F22/E22-1) -> -0.085466763 | I22: =IF(D22=0,"N/A",F22/D22) -> 0.094999999
A23: 120 | B23: DRY CROP | C23: 0 | D23: 0 | E23: 0 | F23: 0 | G23: =D23-C23 -> 0 | H23: =IF(E23=0,"",F23/E23-1) | I23: =IF(D23=0,"N/A",F23/D23) -> N/A
A24: 130 | B24: RANGE | C24: 64203627 | D24: 62121138 | E24: 6099409 | F24: 5901598 | G24: =D24-C24 -> -2082489 | H24: =IF(E24=0,"",F24/E24-1) -> -0.032431175 | I24: =IF(D24=0,"N/A",F24/D24) -> 0.095001447
A25: A | B25: TOTAL AG LANDS | C25: 256689124 | D25: =SUM(D22:D24) -> 238155560 | E25: 24385535 | F25: =SUM(F22:F24) -> 22624868 | G25: =SUM(G22:G24) -> -18533564 | H25: =IF(E25=0,"",F25/E25-1) -> -0.072201287 | I25: =IF(D25=0,"N/A",F25/D25) -> 0.095000377
C27: 2025 | D27: =$D$3 -> 2026 | E27: 2025 | F27: =$D$3 -> 2026
A28: AG ACREAGE | C28: Acres | D28: Acres | E28: Value/Acre | F28: Value/Acre | G28: Acre Change | H28: Value/Acre Change
A29: 110 | B29: IRRIGATED | C29: 104351.56 | D29: 104065.37 | E29: 1844.5866 | F29: =IF(D29<>0,D22/D29,0) -> 1691.5754 | G29: =D29-C29 -> -286.18899 | H29: =F29-E29 -> -153.01127
A30: 120 | B30: DRY CROP | C30: 0 | D30: 0 | E30: 0 | F30: =IF(D30<>0,D23/D30,0) -> 0 | G30: =D30-C30 -> 0 | H30: =F30-E30 -> 0
A31: 130 | B31: RANGE | C31: 580869.09 | D31: 580912.32 | E31: 110.53029 | F31: =IF(D31<>0,D24/D31,0) -> 106.9372 | G31: =D31-C31 -> 43.237545 | H31: =F31-E31 -> -3.5930862
C35: 2025 | D35: =$D$3 -> 2026 | E35: 2025 | F35: =$D$3 -> 2026 | G35: Dollar | H35: % | I35: =$D$3 -> 2026
C36: Fair Market | D36: Fair Market | E36: Assessed | F36: Assessed | G36: Market Value | H36: Assessed Value | I36: Level of
A37: REAL PROPERTY | C37: Value | D37: Value | E37: Value | F37: Value | G37: Change | H37: Change | I37: Assessment
A38: 200 | B38: RESIDENTIAL LAND | C38: 7.4474552e+08 | D38: 8.7996557e+08 | E38: 70750884 | F38: 83596848 | G38: =D38-C38 -> 1.3522005e+08 | H38: =IF(E38=0,"",F38/E38-1) -> 0.18156613 | I38: =IF(D38=0,"N/A",F38/D38) -> 0.095000135
A39: 300 | B39: RESIDENTIAL IMPROVED | C39: 2.3090594e+09 | D39: 2.8580665e+09 | E39: 219360706 | F39: 271516320 | G39: =D39-C39 -> 5.4900714e+08 | H39: =IF(E39=0,"",F39/E39-1) -> 0.23776188 | I39: =IF(D39=0,"N/A",F39/D39) -> 0.095000001
A40: 400 | B40: COMMERCIAL LAND | C40: 125661007 | D40: 127355956 | E40: 11937862 | F40: 12098889 | G40: =D40-C40 -> 1694949 | H40: =IF(E40=0,"",F40/E40-1) -> 0.013488764 | I40: =IF(D40=0,"N/A",F40/D40) -> 0.095000575
A41: 500 | B41: COMMERCIAL IMPROVED | C41: 773321343 | D41: 789428351 | E41: 73465537 | F41: 74995705 | G41: =D41-C41 -> 16107008 | H41: =IF(E41=0,"",F41/E41-1) -> 0.020828378 | I41: =IF(D41=0,"N/A",F41/D41) -> 0.095000015
A42: B | B42: TOTAL REAL PROPERTY | C42: 3.9527872e+09 | D42: =SUM(D38:D41) -> 4.6548164e+09 | E42: 375514989 | F42: =SUM(F38:F41) -> 442207762 | G42: =SUM(G38:G41) -> 7.0202915e+08 | H42: =IF(E42=0,"",F42/E42-1) -> 0.17760349 | I42: =IF(D42=0,"N/A",F42/D42) -> 0.095000044
C44: 2025 | D44: =$D$3 -> 2026 | E44: 2025 | F44: =$D$3 -> 2026 | G44: Dollar | H44: % | I44: =$D$3 -> 2026
C45: Fair Market | D45: Fair Market | E45: Assessed | F45: Assessed | G45: Market Value | H45: Assessed Value | I45: Level of
A46: PERSONAL PROPERTY | C46: Value | D46: Value | E46: Value | F46: Value | G46: Change | H46: Change | I46: Assessment
A47: 610 | B47: RESIDENTIAL PERSONAL PROPERTY | C47: 42584784 | D47: 55704743 | E47: 4045545 | F47: 5291964 | G47: =D47-C47 -> 13119959 | H47: =IF(E47=0,"",F47/E47-1) -> 0.30809668 | I47: =IF(D47=0,"N/A",F47/D47) -> 0.095000241
A48: 730 | B48: COMMERCAIL PERSONAL PROPERTY | C48: 138287646 | D48: 95610395 | E48: 13137297 | F48: 9082991 | G48: =D48-C48 -> -42677251 | H48: =IF(E48=0,"",F48/E48-1) -> -0.30861036 | I48: =IF(D48=0,"N/A",F48/D48) -> 0.095000036
...

Sheet Goshen Value
A1: ="GOSHEN COUNTY "&D3 -> GOSHEN COUNTY 2026
C3: 2025 | D3: ='Albany Value'!D3 -> 2026 | E3: 2025 | F3: =$D$3 -> 2026 | I3: =$D$3 -> 2026
C4: Productive | D4: Productive | E4: Assessed | F4: Assessed | G4: Productive Value | H4: Assessed Value | I4: Level of
A5: LINE | B5: CLASSIFICATION | C5: Value | D5: Value | E5: Value | F5: Value | G5: Change | H5: % Change | I5: Assessment
A6: A | B6: AGRICULTRAL LAND | C6: 433445229 | D6: =D25 -> 385870147 | E6: 41177432 | F6: =F25 -> 36657764 | G6: =D6-C6 -> -47575082 | H6: =IF(E6=0,"",F6/E6-1) -> -0.1097608 | I6: =IF(D6=0,"N/A",F6/D6) -> 0.095000259
A7: B | B7: REAL PROPERTY | C7: 1.0474836e+09 | D7: =D42 -> 1.2453377e+09 | E7: 99511492 | F7: =F42 -> 118307565 | G7: =D7-C7 -> 1.9785409e+08 | H7: =IF(E7=0,"",F7/E7-1) -> 0.18888344 | I7: =IF(D7=0,"N/A",F7/D7) -> 0.095000386
A8: C | B8: PERSONAL PROPERTY | C8: 1.2274419e+08 | D8: =D49 -> 81714136 | E8: 11660699 | F8: =F49 -> 7762853 | G8: =D8-C8 -> -41030057 | H8: =IF(E8=0,"",F8/E8-1) -> -0.33427207 | I8: =IF(D8=0,"N/A",F8/D8) -> 0.095000124
A9: D | B9: INDUSTRIAL PROPERTY | C9: 97592832 | D9: =D87 -> 1.1394798e+08 | E9: 11223173 | F9: =F87 -> 13104018 | G9: =D9-C9 -> 16355151 | H9: =IF(E9=0,"",F9/E9-1) -> 0.16758585 | I9: =IF(D9=0,"N/A",F9/D9) -> 0.115
B10: STATE ASSESSED - MINERALS | C10: 2181794 | D10: ='STATE ASSESSED'!C12 -> 1765971 | E10: 2181794 | F10: =D10 -> 1765971 | G10: =D10-C10 -> -415823 | H10: =IF(E10=0,"",F10/E10-1) -> -0.19058765 | I10: =IF(D10=0,"N/A",F10/D10) -> 1
B11: STATE ASSESSED - OTHER | C11: 1010562596 | D11: ='STATE ASSESSED'!F12 -> 1075197997 | E11: 115916927 | F11: ='STATE ASSESSED'!I12 -> 123461651 | G11: =D11-C11 -> 64635401 | H11: =IF(E11=0,"",F11/E11-1) -> 0.065087336 | I11: =F11/D11 -> 0.1148269 | J11: *
H12: =IF(E12=0,"",F12/E12-1)
B13: LOCALLY ASSESSED VALUATION | C13: 1.7012659e+09 | D13: =SUM(D6:D9) -> 1.82687e+09 | E13: 163572796 | F13: =SUM(F6:F9) -> 175832200 | G13: =SUM(G6:G9) -> 1.256041e+08 | H13: =IF(E13=0,"",F13/E13-1) -> 0.074947695
B14: STATE ASSESSED VALUATION | C14: 1012744390 | D14: =SUM(D10:D11) -> 1076963968 | E14: 118098721 | F14: =SUM(F10:F11) -> 125227622 | G14: =SUM(G10:G11) -> 64219578 | H14: =IF(E14=0,"",F14/E14-1) -> 0.060363914
B15: TOTAL VALUATION | C15: 2.7140103e+09 | D15: =SUM(D13:D14) -> 2.903834e+09 | E15: 281671517 | F15: =SUM(F13:F14) -> 301059822 | G15: =SUM(G13:G14) -> 1.8982368e+08 | H15: =IF(E15=0,"",F15/E15-1) -> 0.068833034
A18: * Telephone and cable are taxed at 9.5%. All others are taxed at 11.5%.
C19: 2025 | D19: =$D$3 -> 2026 | E19: 2025 | F19: =$D$3 -> 2026 | I19: =$D$3 -> 2026
C20: Productive | D20: Productive | E20: Assessed | F20: Assessed | G20: Productive Value | H20: Assessed Value | I20: Level of
A21: AGRICULTURAL LANDS | C21: Value | D21: Value | E21: Value | F21: Value | G21: Change | H21: % Change | I21: Assessment
A22: 110 | B22: IRRIGATED | C22: 269952856 | D22: 230226172 | E22: 25645518 | F22: 21871490 | G22: =D22-C22 -> -39726684 | H22: =IF(E22=0,"",F22/E22-1) -> -0.14716131 | I22: =IF(D22=0,"N/A",F22/D22) -> 0.095000016
A23: 120 | B23: DRY CROP | C23: 37077553 | D23: 33897200 | E23: 3522367 | F23: 3220236 | G23: =D23-C23 -> -3180353 | H23: =IF(E23=0,"",F23/E23-1) -> -0.085774992 | I23: =IF(D23=0,"N/A",F23/D23) -> 0.095000059
A24: 130 | B24: RANGE | C24: 126414820 | D24: 121746775 | E24: 12009547 | F24: 11566038 | G24: =D24-C24 -> -4668045 | H24: =IF(E24=0,"",F24/E24-1) -> -0.036929703 | I24: =IF(D24=0,"N/A",F24/D24) -> 0.095000775
A25: A | B25: TOTAL AG LANDS | C25: 433445229 | D25: =SUM(D22:D24) -> 385870147 | E25: 41177432 | F25: =SUM(F22:F24) -> 36657764 | G25: =SUM(G22:G24) -> -47575082 | H25: =IF(E25=0,"",F25/E25-1) -> -0.1097608 | I25: =IF(D25=0,"N/A",F25/D25) -> 0.095000259
C27: 2025 | D27: =$D$3 -> 2026 | E27: 2025 | F27: =$D$3 -> 2026
A28: AG ACREAGE | C28: Acres | D28: Acres | E28: Value/Acre | F28: Value/Acre | G28: Acre Change | H28: Value/Acre Change
A29: 110 | B29: IRRIGATED | C29: 108067.13 | D29: 108572.14 | E29: 2498.0109 | F29: =IF(D29<>0,D22/D29,0) -> 2120.4904 | G29: =D29-C29 -> 505.01 | H29: =F29-E29 -> -377.52047
A30: 120 | B30: DRY CROP | C30: 101524.44 | D30: 93205.58 | E30: 365.20815 | F30: =IF(D30<>0,D23/D30,0) -> 363.68209 | G30: =D30-C30 -> -8318.86 | H30: =F30-E30 -> -1.5260623
A31: 130 | B31: RANGE | C31: 1058255.5 | D31: 1065793.2 | E31: 119.45586 | F31: =IF(D31<>0,D24/D31,0) -> 114.23114 | G31: =D31-C31 -> 7537.7 | H31: =F31-E31 -> -5.2247167
C35: 2025 | D35: =$D$3 -> 2026 | E35: 2025 | F35: =$D$3 -> 2026 | G35: Dollar | H35: % | I35: =$D$3 -> 2026
C36: Fair Market | D36: Fair Market | E36: Assessed | F36: Assessed | G36: Market Value | H36: Assessed Value | I36: Level of
A37: REAL PROPERTY | C37: Value | D37: Value | E37: Value | F37: Value | G37: Change | H37: Change | I37: Assessment
A38: 200 | B38: RESIDENTIAL LAND | C38: 1.1145699e+08 | D38: 1.3250489e+08 | E38: 10588932 | F38: 12588404 | G38: =D38-C38 -> 21047895 | H38: =IF(E38=0,"",F38/E38-1) -> 0.1888266 | I38: =IF(D38=0,"N/A",F38/D38) -> 0.095003318
A39: 300 | B39: RESIDENTIAL IMPROVED | C39: 7.5812144e+08 | D39: 9.2486615e+08 | E39: 72021539 | F39: 87862308 | G39: =D39-C39 -> 1.6674471e+08 | H39: =IF(E39=0,"",F39/E39-1) -> 0.21994488 | I39: =IF(D39=0,"N/A",F39/D39) -> 0.095000026
A40: 400 | B40: COMMERCIAL LAND | C40: 28772293 | D40: 29718395 | E40: 2733389 | F40: 2823269 | G40: =D40-C40 -> 946102 | H40: =IF(E40=0,"",F40/E40-1) -> 0.032882257 | I40: =IF(D40=0,"N/A",F40/D40) -> 0.095000723
A41: 500 | B41: COMMERCIAL IMPROVED | C41: 149132919 | D41: 158248302 | E41: 14167632 | F41: 15033584 | G41: =D41-C41 -> 9115383 | H41: =IF(E41=0,"",F41/E41-1) -> 0.061121859 | I41: =IF(D41=0,"N/A",F41/D41) -> 0.09499997
A42: B | B42: TOTAL REAL PROPERTY | C42: 1.0474836e+09 | D42: =SUM(D38:D41) -> 1.2453377e+09 | E42: 99511492 | F42: =SUM(F38:F41) -> 118307565 | G42: =SUM(G38:G41) -> 1.9785409e+08 | H42: =IF(E42=0,"",F42/E42-1) -> 0.18888344 | I42: =IF(D42=0,"N/A",F42/D42) -> 0.095000386
C44: 2025 | D44: =$D$3 -> 2026 | E44: 2025 | F44: =$D$3 -> 2026 | G44: Dollar | H44: % | I44: =$D$3 -> 2026
C45: Fair Market | D45: Fair Market | E45: Assessed | F45: Assessed | G45: Market Value | H45: Assessed Value | I45: Level of
A46: PERSONAL PROPERTY | C46: Value | D46: Value | E46: Value | F46: Value | G46: Change | H46: Change | I46: Assessment
A47: 610 | B47: RESIDENTIAL PERSONAL PROPERTY | C47: 11008273 | D47: 15486036 | E47: 1045785 | F47: 1471170 | G47: =D47-C47 -> 4477762.4 | H47: =IF(E47=0,"",F47/E47-1) -> 0.40676143 | I47: =IF(D47=0,"N/A",F47/D47) -> 0.094999782
A48: 730 | B48: COMMERCAIL PERSONAL PROPERTY | C48: 111735920 | D48: 66228100 | E48: 10614914 | F48: 6291683 | G48: =D48-C48 -> -45507820 | H48: =IF(E48=0,"",F48/E48-1) -> -0.40727895 | I48: =IF(D48=0,"N/A",F48/D48) -> 0.095000204
...

Sheet Hot Springs Value
A1: ="HOT SPRINGS COUNTY "&D3 -> HOT SPRINGS COUNTY 2026
C3: 2025 | D3: ='Albany Value'!D3 -> 2026 | E3: 2025 | F3: =$D$3 -> 2026 | I3: =$D$3 -> 2026
C4: Productive | D4: Productive | E4: Assessed | F4: Assessed | G4: Productive Value | H4: Assessed Value | I4: Level of
A5: LINE | B5: CLASSIFICATION | C5: Value | D5: Value | E5: Value | F5: Value | G5: Change | H5: % Change | I5: Assessment
A6: A | B6: AGRICULTRAL LAND | C6: 63063840 | D6: =D25 -> 56619557 | E6: 5991091 | F6: =F25 -> 5378861 | G6: =D6-C6 -> -6444283.3 | H6: =IF(E6=0,"",F6/E6-1) -> -0.10219007 | I6: =IF(D6=0,"N/A",F6/D6) -> 0.095000055
A7: B | B7: REAL PROPERTY | C7: 4.5573741e+08 | D7: =D42 -> 5.0354743e+08 | E7: 43295074 | F7: =F42 -> 47837022 | G7: =D7-C7 -> 47810019 | H7: =IF(E7=0,"",F7/E7-1) -> 0.10490681 | I7: =IF(D7=0,"N/A",F7/D7) -> 0.095000033
A8: C | B8: PERSONAL PROPERTY | C8: 31146216 | D8: =D49 -> 22468281 | E8: 2958901 | F8: =F49 -> 2134488 | G8: =D8-C8 -> -8677934.3 | H8: =IF(E8=0,"",F8/E8-1) -> -0.27862135 | I8: =IF(D8=0,"N/A",F8/D8) -> 0.095000057
A9: D | B9: INDUSTRIAL PROPERTY | C9: 62349630 | D9: =D87 -> 63198478 | E9: 7170208 | F9: =F87 -> 7267826 | G9: =D9-C9 -> 848848 | H9: =IF(E9=0,"",F9/E9-1) -> 0.013614389 | I9: =IF(D9=0,"N/A",F9/D9) -> 0.11500002
B10: STATE ASSESSED - MINERALS | C10: 99323105 | D10: ='STATE ASSESSED'!C13 -> 79761326 | E10: 99323105 | F10: =D10 -> 79761326 | G10: =D10-C10 -> -19561779 | H10: =IF(E10=0,"",F10/E10-1) -> -0.19695094 | I10: =IF(D10=0,"N/A",F10/D10) -> 1
B11: STATE ASSESSED - OTHER | C11: 116677039 | D11: ='STATE ASSESSED'!F13 -> 121697213 | E11: 13308355 | F11: ='STATE ASSESSED'!I13 -> 13897782 | G11: =D11-C11 -> 5020174 | H11: =IF(E11=0,"",F11/E11-1) -> 0.044289997 | I11: =F11/D11 -> 0.11419967 | J11: *
H12: =IF(E12=0,"",F12/E12-1)
B13: LOCALLY ASSESSED VALUATION | C13: 6.1229709e+08 | D13: =SUM(D6:D9) -> 6.4583374e+08 | E13: 59415274 | F13: =SUM(F6:F9) -> 62618197 | G13: =SUM(G6:G9) -> 33536649 | H13: =IF(E13=0,"",F13/E13-1) -> 0.053907401
B14: STATE ASSESSED VALUATION | C14: 216000144 | D14: =SUM(D10:D11) -> 201458539 | E14: 112631460 | F14: =SUM(F10:F11) -> 93659108 | G14: =SUM(G10:G11) -> -14541605 | H14: =IF(E14=0,"",F14/E14-1) -> -0.16844629
B15: TOTAL VALUATION | C15: 8.2829724e+08 | D15: =SUM(D13:D14) -> 8.4729228e+08 | E15: 172046734 | F15: =SUM(F13:F14) -> 156277305 | G15: =SUM(G13:G14) -> 18995044 | H15: =IF(E15=0,"",F15/E15-1) -> -0.091657822
A18: * Telephone and cable are taxed at 9.5%. All others are taxed at 11.5%.
C19: 2025 | D19: =$D$3 -> 2026 | E19: 2025 | F19: =$D$3 -> 2026 | I19: =$D$3 -> 2026
C20: Productive | D20: Productive | E20: Assessed | F20: Assessed | G20: Productive Value | H20: Assessed Value | I20: Level of
A21: AGRICULTURAL LANDS | C21: Value | D21: Value | E21: Value | F21: Value | G21: Change | H21: % Change | I21: Assessment
A22: 110 | B22: IRRIGATED | C22: 35751679 | D22: 30407748 | E22: 3396421 | F22: 2888745 | G22: =D22-C22 -> -5343931.3 | H22: =IF(E22=0,"",F22/E22-1) -> -0.14947381 | I22: =IF(D22=0,"N/A",F22/D22) -> 0.095000295
A23: 120 | B23: DRY CROP | C23: 0 | D23: 0 | E23: 0 | F23: 0 | G23: =D23-C23 -> 0 | H23: =IF(E23=0,"",F23/E23-1) | I23: =IF(D23=0,"N/A",F23/D23) -> N/A
A24: 130 | B24: RANGE | C24: 27312161 | D24: 26211809 | E24: 2594670 | F24: 2490116 | G24: =D24-C24 -> -1100352 | H24: =IF(E24=0,"",F24/E24-1) -> -0.040295683 | I24: =IF(D24=0,"N/A",F24/D24) -> 0.094999777
A25: A | B25: TOTAL AG LANDS | C25: 63063840 | D25: =SUM(D22:D24) -> 56619557 | E25: 5991091 | F25: =SUM(F22:F24) -> 5378861 | G25: =SUM(G22:G24) -> -6444283.3 | H25: =IF(E25=0,"",F25/E25-1) -> -0.10219007 | I25: =IF(D25=0,"N/A",F25/D25) -> 0.095000055
C27: 2025 | D27: =$D$3 -> 2026 | E27: 2025 | F27: =$D$3 -> 2026
A28: AG ACREAGE | C28: Acres | D28: Acres | E28: Value/Acre | F28: Value/Acre | G28: Acre Change | H28: Value/Acre Change
A29: 110 | B29: IRRIGATED | C29: 17120.804 | D29: 17117.978 | E29: 2088.201 | F29: =IF(D29<>0,D22/D29,0) -> 1776.3633 | G29: =D29-C29 -> -2.825577 | H29: =F29-E29 -> -311.8377
A30: 120 | B30: DRY CROP | C30: 0 | D30: 0 | E30: 0 | F30: =IF(D30<>0,D23/D30,0) -> 0 | G30: =D30-C30 -> 0 | H30: =F30-E30 -> 0
A31: 130 | B31: RANGE | C31: 369224.89 | D31: 370591.02 | E31: 73.971614 | F31: =IF(D31<>0,D24/D31,0) -> 70.729747 | G31: =D31-C31 -> 1366.13 | H31: =F31-E31 -> -3.2418672
C35: 2025 | D35: =$D$3 -> 2026 | E35: 2025 | F35: =$D$3 -> 2026 | G35: Dollar | H35: % | I35: =$D$3 -> 2026
C36: Fair Market | D36: Fair Market | E36: Assessed | F36: Assessed | G36: Market Value | H36: Assessed Value | I36: Level of
A37: REAL PROPERTY | C37: Value | D37: Value | E37: Value | F37: Value | G37: Change | H37: Change | I37: Assessment
A38: 200 | B38: RESIDENTIAL LAND | C38: 91960419 | D38: 1.0173578e+08 | E38: 8736268 | F38: 9664880 | G38: =D38-C38 -> 9775362.3 | H38: =IF(E38=0,"",F38/E38-1) -> 0.1062939 | I38: =IF(D38=0,"N/A",F38/D38) -> 0.094999811
A39: 300 | B39: RESIDENTIAL IMPROVED | C39: 2.7809515e+08 | D39: 3.1320592e+08 | E39: 26419024 | F39: 29754586 | G39: =D39-C39 -> 35110769 | H39: =IF(E39=0,"",F39/E39-1) -> 0.12625606 | I39: =IF(D39=0,"N/A",F39/D39) -> 0.095000074
A40: 400 | B40: COMMERCIAL LAND | C40: 14530816 | D40: 14825693 | E40: 1380436 | F40: 1408437 | G40: =D40-C40 -> 294877 | H40: =IF(E40=0,"",F40/E40-1) -> 0.020284171 | I40: =IF(D40=0,"N/A",F40/D40) -> 0.094999741
A41: 500 | B41: COMMERCIAL IMPROVED | C41: 71151017 | D41: 73780028 | E41: 6759346 | F41: 7009119 | G41: =D41-C41 -> 2629010.9 | H41: =IF(E41=0,"",F41/E41-1) -> 0.036952244 | I41: =IF(D41=0,"N/A",F41/D41) -> 0.095000222
